BEGIN:VCALENDAR
VERSION:2.0
PRODID:-//Tukios.com/
BEGIN:VEVENT
UID:5b771581-c9a2-4641-936c-5d2ce709e229@www.afcfuneralhome.com
DTSTAMP:20260423T223633Z
DTSTART:20260428T000000Z
DTEND:20260428T020000Z
SUMMARY:Visitation
DESCRIPTION:
URL:https://www.afcfuneralhome.com/obituaries/merrill-johnson
LOCATION:Early Duke ward 4444 Early Duke Street  West Valley City UT 
	84120
GEO:40.6737541;-112.0130871
END:VEVENT
END:VCALENDAR