BEGIN:VCALENDAR
VERSION:2.0
PRODID:-//Tukios.com/
BEGIN:VEVENT
UID:6b67394a-f660-4af1-b7ec-1a5f7bc3b54c@www.afcfuneralhome.com
DTSTAMP:20260423T223301Z
DTSTART:20260428T180000Z
DTEND:20260428T194500Z
SUMMARY:Visitation
DESCRIPTION:
URL:https://www.afcfuneralhome.com/obituaries/merrill-johnson
LOCATION:Early Duke ward 4444 Early Duke Street  West Valley City UT 
	84120
GEO:40.6737541;-112.0130871
END:VEVENT
END:VCALENDAR