BEGIN:VCALENDAR
VERSION:2.0
PRODID:-//Tukios.com/
BEGIN:VEVENT
UID:357e6b07-e31c-437f-a399-bd8839970573@www.afcfuneralhome.com
DTSTAMP:20260423T224026Z
DTSTART:20260428T213000Z
DTEND:20260428T223000Z
SUMMARY:Burial
DESCRIPTION:
URL:https://www.afcfuneralhome.com/obituaries/merrill-johnson
LOCATION: 6500 South Redwood Road  Salt Lake City UT 84123
GEO:40.6328849;-111.9400925
END:VEVENT
END:VCALENDAR