BEGIN:VCALENDAR
VERSION:2.0
PRODID:-//Tukios.com/
BEGIN:VEVENT
UID:643fb7a8-e011-4eae-828f-a0e49f1e6f46@www.afcfuneralhome.com
DTSTAMP:20260423T223652Z
DTSTART:20260428T200000Z
DTEND:20260428T210000Z
SUMMARY:Funeral Service
DESCRIPTION:
URL:https://www.afcfuneralhome.com/obituaries/merrill-johnson
LOCATION:Early Duke ward 4444 Early Duke Street  West Valley City UT 
	84120
GEO:40.6737541;-112.0130871
END:VEVENT
END:VCALENDAR